BEGIN:VCALENDAR
VERSION:2.0
PRODID:-//jEvents 2.0 for Joomla//EN
CALSCALE:GREGORIAN
METHOD:PUBLISH
BEGIN:VEVENT
UID:4e1nvo05cs2f6pc0kvp9qtueno@google.com
CATEGORIES:H3ABioNet Internal Meetings
CREATED:20190913T112554
SUMMARY:Genetic Epi meeting
LOCATION:http://meeting.uct.ac.za/data_int/ 
URL;VALUE=URI:https://www.h3abionet.org/component/jevents/7068/genetic-epi-meeting?Itemid
 =435&amp;tmpl=component
DESCRIPTION:
DTSTAMP:20260420T044351
DTSTART;TZID=Africa/Johannesburg:20240118T110000
DTEND;TZID=Africa/Johannesburg:20240118T120000
SEQUENCE:0
TRANSP:OPAQUE
END:VEVENT
END:VCALENDAR